BEGIN:VCALENDAR
VERSION:2.0
PRODID:-//Florencewise - ECPv6.15.18//NONSGML v1.0//EN
CALSCALE:GREGORIAN
METHOD:PUBLISH
X-WR-CALNAME:Florencewise
X-ORIGINAL-URL:https://www.florencewise.com
X-WR-CALDESC:Events for Florencewise
REFRESH-INTERVAL;VALUE=DURATION:PT1H
X-Robots-Tag:noindex
X-PUBLISHED-TTL:PT1H
BEGIN:VTIMEZONE
TZID:Europe/Rome
BEGIN:DAYLIGHT
TZOFFSETFROM:+0100
TZOFFSETTO:+0200
TZNAME:CEST
DTSTART:20250330T010000
END:DAYLIGHT
BEGIN:STANDARD
TZOFFSETFROM:+0200
TZOFFSETTO:+0100
TZNAME:CET
DTSTART:20251026T010000
END:STANDARD
BEGIN:DAYLIGHT
TZOFFSETFROM:+0100
TZOFFSETTO:+0200
TZNAME:CEST
DTSTART:20260329T010000
END:DAYLIGHT
BEGIN:STANDARD
TZOFFSETFROM:+0200
TZOFFSETTO:+0100
TZNAME:CET
DTSTART:20261025T010000
END:STANDARD
BEGIN:DAYLIGHT
TZOFFSETFROM:+0100
TZOFFSETTO:+0200
TZNAME:CEST
DTSTART:20270328T010000
END:DAYLIGHT
BEGIN:STANDARD
TZOFFSETFROM:+0200
TZOFFSETTO:+0100
TZNAME:CET
DTSTART:20271031T010000
END:STANDARD
BEGIN:DAYLIGHT
TZOFFSETFROM:+0100
TZOFFSETTO:+0200
TZNAME:CEST
DTSTART:20280326T010000
END:DAYLIGHT
BEGIN:STANDARD
TZOFFSETFROM:+0200
TZOFFSETTO:+0100
TZNAME:CET
DTSTART:20281029T010000
END:STANDARD
END:VTIMEZONE
BEGIN:VEVENT
DTSTART;VALUE=DATE:20260101
DTEND;VALUE=DATE:20271220
DTSTAMP:20260423T225146
CREATED:20250403T145526Z
LAST-MODIFIED:20251216T104109Z
UID:5825-1767225600-1829260799@www.florencewise.com
SUMMARY:[CONCERT] Mozart & Rossini
DESCRIPTION:[vc_row type=”in_container” full_screen_row_position=”middle” column_margin=”default” column_direction=”default” column_direction_tablet=”default” column_direction_phone=”default” scene_position=”center” text_color=”dark” text_align=”left” row_border_radius=”none” row_border_radius_applies=”bg” overflow=”visible” overlay_strength=”0.3″ gradient_direction=”left_to_right” shape_divider_position=”bottom” bg_image_animation=”none”][vc_column column_padding=”no-extra-padding” column_padding_tablet=”inherit” column_padding_phone=”inherit” column_padding_position=”all” column_element_direction_desktop=”default” column_element_spacing=”default” desktop_text_alignment=”default” tablet_text_alignment=”default” phone_text_alignment=”default” background_color_opacity=”1″ background_hover_color_opacity=”1″ column_backdrop_filter=”none” column_shadow=”none” column_border_radius=”none” column_link_target=”_self” column_position=”default” gradient_direction=”left_to_right” overlay_strength=”0.3″ width=”2/3″ tablet_width_inherit=”default” animation_type=”default” bg_image_animation=”none” border_type=”simple” column_border_width=”none” column_border_style=”solid”][vc_column_text css=”” text_direction=”default”]Experience the majestic St Mark’s Anglican Church in Florence as it sets the stage for a captivating concert designed to deepen your appreciation of opera. Two exceptional soloists will perform aria duets from esteemed opera composers Wolfgang Amadeus Mozart and Gioacchino Rossini at this remarkable venue. \nRossini\, who was born just a year after Mozart’s demise\, once said of Mozart: “He was the inspiration of my youth\, the desperation of my middle years\, and the consolation of my old age.” \nThe evening’s program features duets from beloved comedic operas such as The Marriage of Figaro\, The Magic Flute\, Don Giovanni\, The Barber of Seville\, and La Cenerentola\, alongside enchanting songs by F.P. Tosti. \nCheck out more events in Florence on our main events page here. \n[/vc_column_text][/vc_column][vc_column column_padding=”no-extra-padding” column_padding_tablet=”inherit” column_padding_phone=”inherit” column_padding_position=”all” column_element_direction_desktop=”default” column_element_spacing=”default” centered_text=”true” desktop_text_alignment=”default” tablet_text_alignment=”default” phone_text_alignment=”default” background_color_opacity=”1″ background_hover_color_opacity=”1″ column_backdrop_filter=”none” column_shadow=”none” column_border_radius=”none” column_link_target=”_self” column_position=”default” gradient_direction=”left_to_right” overlay_strength=”0.3″ width=”1/3″ tablet_width_inherit=”default” animation_type=”default” bg_image_animation=”none” border_type=”simple” column_border_width=”none” column_border_style=”solid” column_padding_type=”default” gradient_type=”default”][nectar_btn size=”large” open_new_tab=”true” button_style=”regular” button_color_2=”Accent-Color” solid_text_color_override=”#ffffff” icon_family=”none” text=”TICKETS & INFO” url=”https://www.classictic.com/en/city/florence-t16/mozart-rossini-at-st-marks-anglican-church/111531/?e=1926648&r=1430687″][/vc_column][/vc_row]
URL:https://www.florencewise.com/event/mozart-and-rossini/
LOCATION:St Mark’s Anglican Church\, Via Maggio\, 16\, Florence\, FI\, 50125\, Italy
CATEGORIES:Concerts
ATTACH;FMTTYPE=image/png:https://www.florencewise.com/wp-content/uploads/2025/04/b9d2f238-8fba-43b6-872c-9bcaeb11df95.avif
END:VEVENT
BEGIN:VEVENT
DTSTART;VALUE=DATE:20260124
DTEND;VALUE=DATE:20261226
DTSTAMP:20260423T225146
CREATED:20250403T145526Z
LAST-MODIFIED:20251216T105127Z
UID:5829-1769212800-1798243199@www.florencewise.com
SUMMARY:[CONCERT] Verdi & Puccini
DESCRIPTION:[vc_row type=”in_container” full_screen_row_position=”middle” column_margin=”default” column_direction=”default” column_direction_tablet=”default” column_direction_phone=”default” scene_position=”center” text_color=”dark” text_align=”left” row_border_radius=”none” row_border_radius_applies=”bg” overflow=”visible” overlay_strength=”0.3″ gradient_direction=”left_to_right” shape_divider_position=”bottom” bg_image_animation=”none”][vc_column column_padding=”no-extra-padding” column_padding_tablet=”inherit” column_padding_phone=”inherit” column_padding_position=”all” column_element_direction_desktop=”default” column_element_spacing=”default” desktop_text_alignment=”default” tablet_text_alignment=”default” phone_text_alignment=”default” background_color_opacity=”1″ background_hover_color_opacity=”1″ column_backdrop_filter=”none” column_shadow=”none” column_border_radius=”none” column_link_target=”_self” column_position=”default” gradient_direction=”left_to_right” overlay_strength=”0.3″ width=”2/3″ tablet_width_inherit=”default” animation_type=”default” bg_image_animation=”none” border_type=”simple” column_border_width=”none” column_border_style=”solid”][vc_column_text css=”” text_direction=”default”]Experience Verdi & Puccini amongst the magnificent design of Florence’s captivating St Mark’s Anglican Church while indulging in a concert that will enlighten your appreciation of opera.\nTwo exceptional soloists will perform arias and duets from Italy’s renowned opera composers Giuseppe Verdi and Giacomo Puccini within the enchanting St. Mark’s Anglican Church in Florence! \nFeatured in the program are duets from famed Italian operas such as La Traviata\, Rigoletto\, La Bohème\, Tosca\, and Madame Butterfly\, alongside beloved Neapolitan songs. \nCheck out more events in Florence on our main events page here. \n[/vc_column_text][/vc_column][vc_column column_padding=”no-extra-padding” column_padding_tablet=”inherit” column_padding_phone=”inherit” column_padding_position=”all” column_element_direction_desktop=”default” column_element_spacing=”default” centered_text=”true” desktop_text_alignment=”default” tablet_text_alignment=”default” phone_text_alignment=”default” background_color_opacity=”1″ background_hover_color_opacity=”1″ column_backdrop_filter=”none” column_shadow=”none” column_border_radius=”none” column_link_target=”_self” column_position=”default” gradient_direction=”left_to_right” overlay_strength=”0.3″ width=”1/3″ tablet_width_inherit=”default” animation_type=”default” bg_image_animation=”none” border_type=”simple” column_border_width=”none” column_border_style=”solid” column_padding_type=”default” gradient_type=”default”][nectar_btn size=”large” open_new_tab=”true” button_style=”regular” button_color_2=”Accent-Color” solid_text_color_override=”#ffffff” icon_family=”none” text=”TICKETS & INFO” url=”https://www.classictic.com/en/city/florence-t16/verdi-puccini-at-st-marks-anglican-church/111558/?e=1926780&r=1430687″][/vc_column][/vc_row]
URL:https://www.florencewise.com/event/verdi-and-puccini/
LOCATION:St Mark’s Anglican Church\, Via Maggio\, 16\, Florence\, FI\, 50125\, Italy
CATEGORIES:Concerts
ATTACH;FMTTYPE=image/png:https://www.florencewise.com/wp-content/uploads/2025/04/aa428eba-4451-4806-ab63-b87b0cbec645.avif
END:VEVENT
BEGIN:VEVENT
DTSTART;VALUE=DATE:20260128
DTEND;VALUE=DATE:20261229
DTSTAMP:20260423T225147
CREATED:20250403T145526Z
LAST-MODIFIED:20251216T105825Z
UID:5832-1769558400-1798502399@www.florencewise.com
SUMMARY:[CONCERT] Orchestra della Toscana – Balázs Kocsár & Alexey Stadler
DESCRIPTION:[vc_row type=”in_container” full_screen_row_position=”middle” column_margin=”default” column_direction=”default” column_direction_tablet=”default” column_direction_phone=”default” scene_position=”center” text_color=”dark” text_align=”left” row_border_radius=”none” row_border_radius_applies=”bg” overflow=”visible” overlay_strength=”0.3″ gradient_direction=”left_to_right” shape_divider_position=”bottom” bg_image_animation=”none”][vc_column column_padding=”no-extra-padding” column_padding_tablet=”inherit” column_padding_phone=”inherit” column_padding_position=”all” column_element_direction_desktop=”default” column_element_spacing=”default” desktop_text_alignment=”default” tablet_text_alignment=”default” phone_text_alignment=”default” background_color_opacity=”1″ background_hover_color_opacity=”1″ column_backdrop_filter=”none” column_shadow=”none” column_border_radius=”none” column_link_target=”_self” column_position=”default” gradient_direction=”left_to_right” overlay_strength=”0.3″ width=”2/3″ tablet_width_inherit=”default” animation_type=”default” bg_image_animation=”none” border_type=”simple” column_border_width=”none” column_border_style=”solid”][vc_column_text css=”” text_direction=”default”]\n\nAn exciting event from Orchestra della Toscana beckons on the Hungarian music scene with a new ORT commission\, led by the esteemed conductor Balázs Kocsár. Known throughout Europe for his mastery in opera houses and concert venues\, Kocsár introduces a yet‐to‐be‐published piece by Paolo Catenaccio. Born in 1998\, this Italian composer captivates with music both refined and concise\, frequently engaging in dialogue with solo instruments and classical forms. \nThis commission for cello and orchestra offers a platform for Alexey Stadler\, a Russian soloist renowned for his deep sensitivity. With training under Rostropovič\, Stadler has received accolades performing with maestros like Gergiev\, Eschenbach\, and Currentzis. He will present Tchaikovsky’s Variations on a Rococo Theme\, Op. 33 (1876)\, originally altered by cellist Fitzenhage but later restored to align with Tchaikovsky’s classical vision. \nThe evening concludes with the ‘Linz’ Symphony by Wolfgang Amadeus Mozart\, composed in just a few days in 1783. Celebrated for its elegance and brilliance\, it stands as one of Mozart’s most joyful symphonic creations. \n\nCheck out more events in Florence on our main events page here. \n[/vc_column_text][/vc_column][vc_column column_padding=”no-extra-padding” column_padding_tablet=”inherit” column_padding_phone=”inherit” column_padding_position=”all” column_element_direction_desktop=”default” column_element_spacing=”default” centered_text=”true” desktop_text_alignment=”default” tablet_text_alignment=”default” phone_text_alignment=”default” background_color_opacity=”1″ background_hover_color_opacity=”1″ column_backdrop_filter=”none” column_shadow=”none” column_border_radius=”none” column_link_target=”_self” column_position=”default” gradient_direction=”left_to_right” overlay_strength=”0.3″ width=”1/3″ tablet_width_inherit=”default” animation_type=”default” bg_image_animation=”none” border_type=”simple” column_border_width=”none” column_border_style=”solid” column_padding_type=”default” gradient_type=”default”][nectar_btn size=”large” open_new_tab=”true” button_style=”regular” button_color_2=”Accent-Color” solid_text_color_override=”#ffffff” icon_family=”none” text=”TICKETS & INFO” url=”https://www.classictic.com/en/city/florence-t16/orchestra-della-toscana-balazs-kocsar-alexey-stadler/111397/?e=1919065&r=1430687″][/vc_column][/vc_row]
URL:https://www.florencewise.com/event/concert-orchestra-della-toscana-balazs-kocsar-alexey-stadler/
LOCATION:Teatro Verdi\, Via Ghibellina\, 99\, Florence\, FI\, 50122\, Italy
CATEGORIES:Concerts
END:VEVENT
BEGIN:VEVENT
DTSTART;VALUE=DATE:20260402
DTEND;VALUE=DATE:20260403
DTSTAMP:20260423T225147
CREATED:20250403T145526Z
LAST-MODIFIED:20251217T164623Z
UID:5851-1775088000-1775174399@www.florencewise.com
SUMMARY:[CONCERT] Orchestra della Toscana – Easter Concert: Min Gyu Song & Simon Zhu
DESCRIPTION:[vc_row type=”in_container” full_screen_row_position=”middle” column_margin=”default” column_direction=”default” column_direction_tablet=”default” column_direction_phone=”default” scene_position=”center” text_color=”dark” text_align=”left” row_border_radius=”none” row_border_radius_applies=”bg” overflow=”visible” overlay_strength=”0.3″ gradient_direction=”left_to_right” shape_divider_position=”bottom” bg_image_animation=”none”][vc_column column_padding=”no-extra-padding” column_padding_tablet=”inherit” column_padding_phone=”inherit” column_padding_position=”all” column_element_direction_desktop=”default” column_element_spacing=”default” desktop_text_alignment=”default” tablet_text_alignment=”default” phone_text_alignment=”default” background_color_opacity=”1″ background_hover_color_opacity=”1″ column_backdrop_filter=”none” column_shadow=”none” column_border_radius=”none” column_link_target=”_self” column_position=”default” gradient_direction=”left_to_right” overlay_strength=”0.3″ width=”2/3″ tablet_width_inherit=”default” animation_type=”default” bg_image_animation=”none” border_type=”simple” column_border_width=”none” column_border_style=”solid”][vc_column_text css=”” text_direction=”default”]\n\n\nExperience the brilliance of two masterpieces in a captivating Easter concert\, embracing energy\, inventiveness\, and freshness. Guiding this concert is Min Gyu Song\, a talented young conductor from South Korea. Known for his precise and fluid style\, Song has rapidly gained prominence in Europe after his 2023 victory at the Malko competition in Copenhagen. \nThe evening begins with Wolfgang Amadeus Mozart’s Violin Concerto No. 5 in A major\, K 219\, famously dubbed ‘Türkish’ for its finale echoing Ottoman bands. Written in 1775\, this concerto stands out among Mozart’s works for its theatricality\, blending lyrical beauty with dazzling passages. Simon Zhu\, a gifted German violinist of Chinese descent born in 2001\, brings this piece to life. Winner of the 2023 Paganini Competition\, Zhu is lauded for his maturity\, precision\, and commanding stage presence. \nThe Easter concert concludes with Ludwig van Beethoven’s Symphony No. 8 in F major\, Op. 93—a symphony rich with rhythmic humor and playful allusions yet filled with dynamic energy. This performance is a perfect Easter send‐off\, merging strict discipline with joyful expression. \nProgram\nWolfgang Amadeus Mozart – Violin Concerto No. 5 K 219 ‘Turkish’\nLudwig van Beethoven – Symphony No. 8 Op. 93 \nProgram is subject to change \nCheck out more events in Florence on our main events page here. \n\n\n[/vc_column_text][/vc_column][vc_column column_padding=”no-extra-padding” column_padding_tablet=”inherit” column_padding_phone=”inherit” column_padding_position=”all” column_element_direction_desktop=”default” column_element_spacing=”default” centered_text=”true” desktop_text_alignment=”default” tablet_text_alignment=”default” phone_text_alignment=”default” background_color_opacity=”1″ background_hover_color_opacity=”1″ column_backdrop_filter=”none” column_shadow=”none” column_border_radius=”none” column_link_target=”_self” column_position=”default” gradient_direction=”left_to_right” overlay_strength=”0.3″ width=”1/3″ tablet_width_inherit=”default” animation_type=”default” bg_image_animation=”none” border_type=”simple” column_border_width=”none” column_border_style=”solid” column_padding_type=”default” gradient_type=”default”][nectar_btn size=”large” open_new_tab=”true” button_style=”regular” button_color_2=”Accent-Color” solid_text_color_override=”#ffffff” icon_family=”none” text=”TICKETS & INFO” url=”https://www.classictic.com/en/city/florence-t16/orchestra-della-toscana-easter-concert-min-gyu-song-simon-zhu/111415/?e=1919083&r=1430687″][/vc_column][/vc_row]
URL:https://www.florencewise.com/event/concert-orchestra-della-toscana-easter-concert-min-gyu-song-simon-zhu/
LOCATION:Teatro Verdi\, Via Ghibellina\, 99\, Florence\, FI\, 50122\, Italy
CATEGORIES:Concerts
END:VEVENT
END:VCALENDAR