BEGIN:VCALENDAR
VERSION:2.0
PRODID:-//Florencewise - ECPv6.15.18//NONSGML v1.0//EN
CALSCALE:GREGORIAN
METHOD:PUBLISH
X-WR-CALNAME:Florencewise
X-ORIGINAL-URL:https://www.florencewise.com
X-WR-CALDESC:Events for Florencewise
REFRESH-INTERVAL;VALUE=DURATION:PT1H
X-Robots-Tag:noindex
X-PUBLISHED-TTL:PT1H
BEGIN:VTIMEZONE
TZID:Europe/Rome
BEGIN:DAYLIGHT
TZOFFSETFROM:+0100
TZOFFSETTO:+0200
TZNAME:CEST
DTSTART:20250330T010000
END:DAYLIGHT
BEGIN:STANDARD
TZOFFSETFROM:+0200
TZOFFSETTO:+0100
TZNAME:CET
DTSTART:20251026T010000
END:STANDARD
BEGIN:DAYLIGHT
TZOFFSETFROM:+0100
TZOFFSETTO:+0200
TZNAME:CEST
DTSTART:20260329T010000
END:DAYLIGHT
BEGIN:STANDARD
TZOFFSETFROM:+0200
TZOFFSETTO:+0100
TZNAME:CET
DTSTART:20261025T010000
END:STANDARD
BEGIN:DAYLIGHT
TZOFFSETFROM:+0100
TZOFFSETTO:+0200
TZNAME:CEST
DTSTART:20270328T010000
END:DAYLIGHT
BEGIN:STANDARD
TZOFFSETFROM:+0200
TZOFFSETTO:+0100
TZNAME:CET
DTSTART:20271031T010000
END:STANDARD
END:VTIMEZONE
BEGIN:VEVENT
DTSTART;VALUE=DATE:20260507
DTEND;VALUE=DATE:20260508
DTSTAMP:20260425T171510
CREATED:20250403T145526Z
LAST-MODIFIED:20251217T171340Z
UID:5855-1778112000-1778198399@www.florencewise.com
SUMMARY:[CONCERT] Orchestra della Toscana - Diego Ceretta
DESCRIPTION:[vc_row type=”in_container” full_screen_row_position=”middle” column_margin=”default” column_direction=”default” column_direction_tablet=”default” column_direction_phone=”default” scene_position=”center” text_color=”dark” text_align=”left” row_border_radius=”none” row_border_radius_applies=”bg” overflow=”visible” overlay_strength=”0.3″ gradient_direction=”left_to_right” shape_divider_position=”bottom” bg_image_animation=”none”][vc_column column_padding=”no-extra-padding” column_padding_tablet=”inherit” column_padding_phone=”inherit” column_padding_position=”all” column_element_direction_desktop=”default” column_element_spacing=”default” desktop_text_alignment=”default” tablet_text_alignment=”default” phone_text_alignment=”default” background_color_opacity=”1″ background_hover_color_opacity=”1″ column_backdrop_filter=”none” column_shadow=”none” column_border_radius=”none” column_link_target=”_self” column_position=”default” gradient_direction=”left_to_right” overlay_strength=”0.3″ width=”2/3″ tablet_width_inherit=”default” animation_type=”default” bg_image_animation=”none” border_type=”simple” column_border_width=”none” column_border_style=”solid”][vc_column_text css=”” text_direction=”default”]\n\nConductor Diego Ceretta presents a rare mix of works: Webern’s romantic ‘Langsamer Satz’\, Strauss’ playful Duet‐Concertino for clarinet and bassoon with soloists Emilio Checchini and Umberto Codecà\, and Mendelssohn’s vibrant First Symphony. \n\n\n Orchestra della Toscana – Diego Ceretta Program\n\nAnton Webern – Langsamer Satz\nRichard Strauss – Duet‐Concertino for Clarinet and Bassoon\nFelix Mendelssohn Bartholdy – Symphony No. 1 Op. 11\n\nProgram is subject to change \n\nCheck out more events in Florence on our main events page here.[/vc_column_text][/vc_column][vc_column column_padding=”no-extra-padding” column_padding_tablet=”inherit” column_padding_phone=”inherit” column_padding_position=”all” column_element_direction_desktop=”default” column_element_spacing=”default” centered_text=”true” desktop_text_alignment=”default” tablet_text_alignment=”default” phone_text_alignment=”default” background_color_opacity=”1″ background_hover_color_opacity=”1″ column_backdrop_filter=”none” column_shadow=”none” column_border_radius=”none” column_link_target=”_self” column_position=”default” gradient_direction=”left_to_right” overlay_strength=”0.3″ width=”1/3″ tablet_width_inherit=”default” animation_type=”default” bg_image_animation=”none” border_type=”simple” column_border_width=”none” column_border_style=”solid” column_padding_type=”default” gradient_type=”default”][nectar_btn size=”large” open_new_tab=”true” button_style=”regular” button_color_2=”Accent-Color” solid_text_color_override=”#ffffff” icon_family=”none” text=”TICKETS & INFO” url=”https://www.classictic.com/en/city/florence-t16/orchestra-della-toscana-diego-ceretta/103354/?e=1919089&r=1430687″][/vc_column][/vc_row]
URL:https://www.florencewise.com/event/concert-orchestra-della-toscana-diego-ceretta/
LOCATION:Teatro Verdi\, Via Ghibellina\, 99\, Florence\, FI\, 50122\, Italy
CATEGORIES:Concerts
ATTACH;FMTTYPE=image/png:https://www.florencewise.com/wp-content/uploads/2025/04/d12f206e-f9af-4238-8854-99a150b434b9.avif
END:VEVENT
BEGIN:VEVENT
DTSTART;VALUE=DATE:20260606
DTEND;VALUE=DATE:20260705
DTSTAMP:20260425T171510
CREATED:20250403T145526Z
LAST-MODIFIED:20251217T174857Z
UID:5862-1780704000-1783209599@www.florencewise.com
SUMMARY:[CONCERT] Madama Butterfly
DESCRIPTION:[vc_row type=”in_container” full_screen_row_position=”middle” column_margin=”default” column_direction=”default” column_direction_tablet=”default” column_direction_phone=”default” scene_position=”center” text_color=”dark” text_align=”left” row_border_radius=”none” row_border_radius_applies=”bg” overflow=”visible” overlay_strength=”0.3″ gradient_direction=”left_to_right” shape_divider_position=”bottom” bg_image_animation=”none”][vc_column column_padding=”no-extra-padding” column_padding_tablet=”inherit” column_padding_phone=”inherit” column_padding_position=”all” column_element_direction_desktop=”default” column_element_spacing=”default” desktop_text_alignment=”default” tablet_text_alignment=”default” phone_text_alignment=”default” background_color_opacity=”1″ background_hover_color_opacity=”1″ column_backdrop_filter=”none” column_shadow=”none” column_border_radius=”none” column_link_target=”_self” column_position=”default” gradient_direction=”left_to_right” overlay_strength=”0.3″ width=”2/3″ tablet_width_inherit=”default” animation_type=”default” bg_image_animation=”none” border_type=”simple” column_border_width=”none” column_border_style=”solid”][vc_column_text css=”” text_direction=”default”]Enjoy Puccini’s ‘Madama Butterfly’ in the intimate setting of St. Mark’s English Church in Florence! \n‘After seeing a performance of the one‐act play ‘Madame Butterfly’ in 1900\, Puccini conceived an idea of adapting it for an opera. This poignant tragedy about the love between a Japanese girl and an American sailor became the three‐act opera that premiered at Milan’s La Scala Opera Theatre in 1904. To add an element of realism\, Puccini vigorously researched Japanese music and his librettist\, Illica\, even travelled to Japan. \nMadama Butterfly Act 1\nNagasaki\, Japan. Pinkerton\, an officer in the American Navy\, has arranged to take a Japanese wife\, Cio‐Cio San. Sharpless\, the American consul\, advises Pinkerton that his actions are hasty\, but Pinkerton ignores this advice.\nCio‐Cio San is the 15 year old daughter of a samurai family. Her father committed ritual suicide rather than face dishonour\, ruining the family. Cio‐Cio San is pleased at her upcoming wedding\, and has secretly become a Christian to please her new husband. Her relatives\, who are Buddhist\, sever connections with her due to her conversion. Pinkerton consoles his bride. \nMadama Butterfly Act 2\nPinkerton returned to America three years ago. Cio‐Cio San believes that he will return. Sharpless visits her with a letter from Pinkerton\, but can’t bring himself to reveal the contents of the letter\, seeing her happiness with her child and her hope. Sharpless leaves\, and Cio‐Cio San confirms that an American battleship to which Pinkerton is assigned is entering port at Nagasaki. She radiantly awaits his return. \nMadama Butterfly Act 3\nCio‐Cio San has a sleepless night\, but Pinkerton doesn’t come. While she and the child rest\, Pinkerton and Pinkerton’s ‘real’ wife\, Kate\, appear in front of the house. Cio‐Cio San’s maid\, Suzuki\, tells them of Cho‐cho‐san’s innocent belief in a happy future. Pinkerton is filled with regret\, and quickly departs leaving Kate to talk to Cio‐Cio San. When Cio‐Cio San sees Kate\, everything becomes clear to her. Kate offers to take in Pinkerton’s child\, but Cio‐Cio San refuses unless Pinkerton comes himself to take his child. Pinkerton returns\, but too late — Cio‐Cio San has already committed ritual sicide\, killing herself with her father’s dagger. \nPuccini’s ravishing music includes some of the most famous and moving arias and duets in the repertoire. \nCheck out more events in Florence on our main events page here. \n[/vc_column_text][/vc_column][vc_column column_padding=”no-extra-padding” column_padding_tablet=”inherit” column_padding_phone=”inherit” column_padding_position=”all” column_element_direction_desktop=”default” column_element_spacing=”default” centered_text=”true” desktop_text_alignment=”default” tablet_text_alignment=”default” phone_text_alignment=”default” background_color_opacity=”1″ background_hover_color_opacity=”1″ column_backdrop_filter=”none” column_shadow=”none” column_border_radius=”none” column_link_target=”_self” column_position=”default” gradient_direction=”left_to_right” overlay_strength=”0.3″ width=”1/3″ tablet_width_inherit=”default” animation_type=”default” bg_image_animation=”none” border_type=”simple” column_border_width=”none” column_border_style=”solid” column_padding_type=”default” gradient_type=”default”][nectar_btn size=”large” open_new_tab=”true” button_style=”regular” button_color_2=”Accent-Color” solid_text_color_override=”#ffffff” icon_family=”none” text=”TICKETS & INFO” url=”https://www.classictic.com/en/city/florence-t16/madama-butterfly/111567/?e=1926870&r=1430687″][/vc_column][/vc_row]
URL:https://www.florencewise.com/event/madama-butterfly/
LOCATION:St Mark’s Anglican Church\, Via Maggio\, 16\, Florence\, FI\, 50125\, Italy
CATEGORIES:Concerts
ATTACH;FMTTYPE=image/png:https://www.florencewise.com/wp-content/uploads/2025/04/d9b077fc-4dd1-4a2c-bb80-4ebf6e608ce3.avif
END:VEVENT
END:VCALENDAR